BEGIN:VCALENDAR
VERSION:2.0
PRODID:-//Faultless - ECPv6.15.20//NONSGML v1.0//EN
CALSCALE:GREGORIAN
METHOD:PUBLISH
X-WR-CALNAME:Faultless
X-ORIGINAL-URL:https://faultlessedu.com
X-WR-CALDESC:Events for Faultless
REFRESH-INTERVAL;VALUE=DURATION:PT1H
X-Robots-Tag:noindex
X-PUBLISHED-TTL:PT1H
BEGIN:VTIMEZONE
TZID:America/Denver
BEGIN:DAYLIGHT
TZOFFSETFROM:-0700
TZOFFSETTO:-0600
TZNAME:MDT
DTSTART:20250309T090000
END:DAYLIGHT
BEGIN:STANDARD
TZOFFSETFROM:-0600
TZOFFSETTO:-0700
TZNAME:MST
DTSTART:20251102T080000
END:STANDARD
BEGIN:DAYLIGHT
TZOFFSETFROM:-0700
TZOFFSETTO:-0600
TZNAME:MDT
DTSTART:20260308T090000
END:DAYLIGHT
BEGIN:STANDARD
TZOFFSETFROM:-0600
TZOFFSETTO:-0700
TZNAME:MST
DTSTART:20261101T080000
END:STANDARD
BEGIN:DAYLIGHT
TZOFFSETFROM:-0700
TZOFFSETTO:-0600
TZNAME:MDT
DTSTART:20270314T090000
END:DAYLIGHT
BEGIN:STANDARD
TZOFFSETFROM:-0600
TZOFFSETTO:-0700
TZNAME:MST
DTSTART:20271107T080000
END:STANDARD
END:VTIMEZONE
BEGIN:VEVENT
DTSTART;TZID=America/Denver:20260407T080000
DTEND;TZID=America/Denver:20260430T170000
DTSTAMP:20260424T071841
CREATED:20260408T023247Z
LAST-MODIFIED:20260408T023247Z
UID:1267-1775548800-1777568400@faultlessedu.com
SUMMARY:#SAAM Community Outreach
DESCRIPTION:Banners going up in Montrose\, Olathe and Delta. Consent stickers going on coffee sleeves and coffee cups that sprinkle a little bit of awareness into our communities
URL:https://faultlessedu.com/event/saam-community-outreach/
END:VEVENT
BEGIN:VEVENT
DTSTART;TZID=America/Denver:20260521T080000
DTEND;TZID=America/Denver:20260521T090000
DTSTAMP:20260424T071841
CREATED:20260408T022820Z
LAST-MODIFIED:20260408T022820Z
UID:1265-1779350400-1779354000@faultlessedu.com
SUMMARY:Faultless Introduction to Delta County Health Team
DESCRIPTION:Faultless will be presenting to Delta County Health team on what we do and how we can collaborate to help change the numbers in Delta County.
URL:https://faultlessedu.com/event/faultless-introduction-to-delta-county-health-team/
END:VEVENT
BEGIN:VEVENT
DTSTART;TZID=America/Denver:20260522T130000
DTEND;TZID=America/Denver:20260522T143000
DTSTAMP:20260424T071841
CREATED:20260408T023620Z
LAST-MODIFIED:20260408T023620Z
UID:1270-1779454800-1779460200@faultlessedu.com
SUMMARY:Safe Route Training at ALL Points Transit
DESCRIPTION:We are so excited to be empowering our drivers at All Points transit with our Safe Route training. It equips transportation drivers with practical tools to create safer rides. The program emphasizes clear boundaries\, recognizing warning signs\, and prioritizing safety\, while also providing guidance on trauma-informed responses and access to survivor support resources. \nParticipants learn to prioritize safety over politeness\, empowering them to end rides if they feel threatened or observe inappropriate behavior. The training includes specialized modules on trauma-informed responses\, ensuring that drivers can offer sensitive support to survivors after an incident occurs. Drivers are equipped with a directory of survivor resources\, including direct links to our local 24 hr Sexual Assault Nurse Examiners hotline and the RAINN National Sexual Assault Hotline for 24/7 confidential help. At its core\, it’s: \n“Everyone deserves to go out\, have fun\, and get home safe.”\n 
URL:https://faultlessedu.com/event/safe-route-training-at-all-points-transit/
END:VEVENT
END:VCALENDAR